BEGIN:VCALENDAR
VERSION:1.0
PRODID:https://fahrzeugtechnik.fh-joanneum.at/veranstaltungen/termine/
BEGIN:VEVENT
DTSTART:20180612T220000Z
DTEND:20180612T220000Z
UID:1528840800@termine.fahrzeugtechnik.fh-joanneum.at
DTSTAMP:20260422T025828Z
DESCRIPTION:
LOCATION:FH Joanneum Graz
SUMMARY:Vortragsreihe: Innovationen in der Fahrzeugtechnik
END:VEVENT
END:VCALENDAR
